BEGIN:VCALENDAR
VERSION:2.0
PRODID:-//wp-events-plugin.com//7.2.3.1//EN
TZID:Europe/Berlin
X-WR-TIMEZONE:Europe/Berlin
BEGIN:VEVENT
UID:19@cop.impulsouth.org
DTSTART;TZID=Europe/Berlin;VALUE=DATE:20250707
DTEND;TZID=Europe/Berlin;VALUE=DATE:20250712
DTSTAMP:20250429T150805Z
URL:https://cop.impulsouth.org/events/gbep-bioenergy-week/
SUMMARY:GBEP Bioenergy Week
DESCRIPTION:Since 2013\, the Global Bioenergy Partnership (GBEP) has been o
 rganizing a Bioenergy Week every year in a different region of the world1.
  In 2025\, for its 12th edition\, the GBEP Bioenergy Week will be held in 
 Kampala\, Uganda from 7 to 11 July 2025. The event is organized by the Foo
 d and Agriculture Organization of the United Nations (FAO) in the context 
 of the GBEP Programme of Work\, hosted by the government of Uganda through
  the Ministry of Energy and Mineral Development (MEMD)\, and in collaborat
 ion with the United Nations Industrial Development Organization (UNIDO) an
 d The African Energy Commission of the African Union (AFREC).
ATTACH;FMTTYPE=image/jpeg:https://cop.impulsouth.org/wp-content/uploads/20
 25/04/12th-gbep-bioenergy-week2a901000-01cf-4a1a-8f0c-19b56e1d32c8-scaled.
 png
LOCATION:Kampala\, Kampala\, Kampala\, Uganda
X-APPLE-STRUCTURED-LOCATION;VALUE=URI;X-ADDRESS=Kampala\, Kampala\, Uganda;
 X-APPLE-RADIUS=100;X-TITLE=Kampala:geo:0,0
END:VEVENT
BEGIN:VTIMEZONE
TZID:Europe/Berlin
X-LIC-LOCATION:Europe/Berlin
BEGIN:DAYLIGHT
DTSTART:20250330T030000
TZOFFSETFROM:+0100
TZOFFSETTO:+0200
TZNAME:CEST
END:DAYLIGHT
END:VTIMEZONE
END:VCALENDAR