BEGIN:VCALENDAR
VERSION:2.0
PRODID:-//wp-events-plugin.com//7.2.3.1//EN
TZID:Europe/Berlin
X-WR-TIMEZONE:Europe/Berlin
BEGIN:VEVENT
UID:18@cop.impulsouth.org
DTSTART;TZID=Europe/Berlin;VALUE=DATE:20250901
DTEND;TZID=Europe/Berlin;VALUE=DATE:20251001
DTSTAMP:20250429T150625Z
URL:https://cop.impulsouth.org/events/climate-week-africa/
SUMMARY:Climate Week - Africa
DESCRIPTION:
END:VEVENT
BEGIN:VTIMEZONE
TZID:Europe/Berlin
X-LIC-LOCATION:Europe/Berlin
BEGIN:DAYLIGHT
DTSTART:20250330T030000
TZOFFSETFROM:+0100
TZOFFSETTO:+0200
TZNAME:CEST
END:DAYLIGHT
END:VTIMEZONE
END:VCALENDAR